BEGIN:VCALENDAR
VERSION:2.0
PRODID:-//Michelle Marroquin - ECPv6.15.20//NONSGML v1.0//EN
CALSCALE:GREGORIAN
METHOD:PUBLISH
X-WR-CALNAME:Michelle Marroquin
X-ORIGINAL-URL:https://www.michellemarroquin.com
X-WR-CALDESC:Events for Michelle Marroquin
REFRESH-INTERVAL;VALUE=DURATION:PT1H
X-Robots-Tag:noindex
X-PUBLISHED-TTL:PT1H
BEGIN:VTIMEZONE
TZID:America/New_York
BEGIN:DAYLIGHT
TZOFFSETFROM:-0500
TZOFFSETTO:-0400
TZNAME:EDT
DTSTART:20240310T070000
END:DAYLIGHT
BEGIN:STANDARD
TZOFFSETFROM:-0400
TZOFFSETTO:-0500
TZNAME:EST
DTSTART:20241103T060000
END:STANDARD
BEGIN:DAYLIGHT
TZOFFSETFROM:-0500
TZOFFSETTO:-0400
TZNAME:EDT
DTSTART:20250309T070000
END:DAYLIGHT
BEGIN:STANDARD
TZOFFSETFROM:-0400
TZOFFSETTO:-0500
TZNAME:EST
DTSTART:20251102T060000
END:STANDARD
BEGIN:DAYLIGHT
TZOFFSETFROM:-0500
TZOFFSETTO:-0400
TZNAME:EDT
DTSTART:20260308T070000
END:DAYLIGHT
BEGIN:STANDARD
TZOFFSETFROM:-0400
TZOFFSETTO:-0500
TZNAME:EST
DTSTART:20261101T060000
END:STANDARD
END:VTIMEZONE
BEGIN:VEVENT
DTSTART;TZID=America/New_York:20250104T090000
DTEND;TZID=America/New_York:20250322T095000
DTSTAMP:20260420T064606
CREATED:20240731T154404Z
LAST-MODIFIED:20250324T214806Z
UID:3840-1735981200-1742637000@www.michellemarroquin.com
SUMMARY:Strength Training for Dancers
DESCRIPTION:This class brings the best of Pilates\, Floor Barre and Physical Therapy exercises to build core strength\, work abs\, waist\, hips and low back\, help prevent injury\, improve balance\, demystify pirouettes and boost jumps. Appropriate for dancers of any style as well as non dancers who want a good work out! Please bring a Yoga mat. \nWhen: Saturdays 9-9:50AM\nWhere: @ 33 Hawley St. Carole’s Dance Studio\nCost: 4 Classes = $100 or Drop In Sliding Scale $15-$30\nPayment Accepted via Cash or Check or Venmo at: @Michelle-Marroquin-11 \n 
URL:https://www.michellemarroquin.com/class/strength4dancers/
LOCATION:Arts Trust Building\, 33 Hawley St.\, Northampton\, MA\, 01060\, United States
CATEGORIES:Classes
ATTACH;FMTTYPE=image/jpeg:https://www.michellemarroquin.com/wp-content/uploads/2024/07/close-up-female-dancer-feet_smaller-e1723642784436.jpeg
END:VEVENT
END:VCALENDAR